BEGIN:VCALENDAR
VERSION:2.0
PRODID:-//Icelandic Horse Society of Great Britain - IHSGB - ECPv6.15.20//NONSGML v1.0//EN
CALSCALE:GREGORIAN
METHOD:PUBLISH
X-ORIGINAL-URL:https://ihsgb.co.uk
X-WR-CALDESC:Events for Icelandic Horse Society of Great Britain - IHSGB
REFRESH-INTERVAL;VALUE=DURATION:PT1H
X-Robots-Tag:noindex
X-PUBLISHED-TTL:PT1H
BEGIN:VTIMEZONE
TZID:Europe/London
BEGIN:DAYLIGHT
TZOFFSETFROM:+0000
TZOFFSETTO:+0100
TZNAME:BST
DTSTART:20240331T010000
END:DAYLIGHT
BEGIN:STANDARD
TZOFFSETFROM:+0100
TZOFFSETTO:+0000
TZNAME:GMT
DTSTART:20241027T010000
END:STANDARD
BEGIN:DAYLIGHT
TZOFFSETFROM:+0000
TZOFFSETTO:+0100
TZNAME:BST
DTSTART:20250330T010000
END:DAYLIGHT
BEGIN:STANDARD
TZOFFSETFROM:+0100
TZOFFSETTO:+0000
TZNAME:GMT
DTSTART:20251026T010000
END:STANDARD
BEGIN:DAYLIGHT
TZOFFSETFROM:+0000
TZOFFSETTO:+0100
TZNAME:BST
DTSTART:20260329T010000
END:DAYLIGHT
BEGIN:STANDARD
TZOFFSETFROM:+0100
TZOFFSETTO:+0000
TZNAME:GMT
DTSTART:20261025T010000
END:STANDARD
END:VTIMEZONE
BEGIN:VEVENT
DTSTART;TZID=Europe/London:20251118T190000
DTEND;TZID=Europe/London:20251118T203000
DTSTAMP:20260420T140729
CREATED:20251109T160703Z
LAST-MODIFIED:20251109T160935Z
UID:17144-1763492400-1763497800@ihsgb.co.uk
SUMMARY:Physiotherapy for the Horse
DESCRIPTION:Webinar with Juniper Connal\, West Country Physio. \n  \nPlease contact education@ihsgb.co.uk to sign up!
URL:https://ihsgb.co.uk/event/physiotherapy-for-the-horse/
LOCATION:On-Line
CATEGORIES:Education,Featured,Members News
ATTACH;FMTTYPE=image/jpeg:https://ihsgb.co.uk/wordpress/wp-content/uploads/2025/11/wvp-logo.jpg
ORGANIZER;CN="IHSGB Education":MAILTO:education@ihsgb.co.uk
END:VEVENT
END:VCALENDAR